BEGIN:VCALENDAR
VERSION:2.0
PRODID:-//Interreg VI A MV/BB/PL - ECPv6.15.18//NONSGML v1.0//EN
CALSCALE:GREGORIAN
METHOD:PUBLISH
X-ORIGINAL-URL:https://www.interreg6a.net
X-WR-CALDESC:Veranstaltungen für Interreg VI A MV/BB/PL
REFRESH-INTERVAL;VALUE=DURATION:PT1H
X-Robots-Tag:noindex
X-PUBLISHED-TTL:PT1H
BEGIN:VTIMEZONE
TZID:Europe/Berlin
BEGIN:DAYLIGHT
TZOFFSETFROM:+0100
TZOFFSETTO:+0200
TZNAME:CEST
DTSTART:20240331T010000
END:DAYLIGHT
BEGIN:STANDARD
TZOFFSETFROM:+0200
TZOFFSETTO:+0100
TZNAME:CET
DTSTART:20241027T010000
END:STANDARD
BEGIN:DAYLIGHT
TZOFFSETFROM:+0100
TZOFFSETTO:+0200
TZNAME:CEST
DTSTART:20250330T010000
END:DAYLIGHT
BEGIN:STANDARD
TZOFFSETFROM:+0200
TZOFFSETTO:+0100
TZNAME:CET
DTSTART:20251026T010000
END:STANDARD
BEGIN:DAYLIGHT
TZOFFSETFROM:+0100
TZOFFSETTO:+0200
TZNAME:CEST
DTSTART:20260329T010000
END:DAYLIGHT
BEGIN:STANDARD
TZOFFSETFROM:+0200
TZOFFSETTO:+0100
TZNAME:CET
DTSTART:20261025T010000
END:STANDARD
BEGIN:DAYLIGHT
TZOFFSETFROM:+0100
TZOFFSETTO:+0200
TZNAME:CEST
DTSTART:20270328T010000
END:DAYLIGHT
BEGIN:STANDARD
TZOFFSETFROM:+0200
TZOFFSETTO:+0100
TZNAME:CET
DTSTART:20271031T010000
END:STANDARD
END:VTIMEZONE
BEGIN:VEVENT
DTSTART;VALUE=DATE:20260220
DTEND;VALUE=DATE:20260221
DTSTAMP:20260422T024231
CREATED:20251211T131637Z
LAST-MODIFIED:20260121T103519Z
UID:10001158-1771545600-1771631999@www.interreg6a.net
SUMMARY:Ende der Winterferien Mecklenburg-Vorpommern
DESCRIPTION:
URL:https://www.interreg6a.net/veranstaltungen2/ende-der-winterferien-mecklenburg-vorpommern/
LOCATION:Mecklenburg-Vorpommern
CATEGORIES:Kooperationsprogramm
END:VEVENT
BEGIN:VEVENT
DTSTART;VALUE=DATE:20260209
DTEND;VALUE=DATE:20260210
DTSTAMP:20260422T024231
CREATED:20251211T151458Z
LAST-MODIFIED:20260121T103421Z
UID:10001159-1770595200-1770681599@www.interreg6a.net
SUMMARY:Anfang der Winterferien Mecklenburg-Vorpommern
DESCRIPTION:
URL:https://www.interreg6a.net/veranstaltungen2/anfang-der-winterferien-mecklenburg-vorpommern-2/
LOCATION:Mecklenburg-Vorpommern
CATEGORIES:Kooperationsprogramm
END:VEVENT
BEGIN:VEVENT
DTSTART;VALUE=DATE:20251025
DTEND;VALUE=DATE:20251026
DTSTAMP:20260422T024231
CREATED:20251009T120123Z
LAST-MODIFIED:20251009T120123Z
UID:10001068-1761350400-1761436799@www.interreg6a.net
SUMMARY:Ende der Herbstferien Mecklenburg-Vorpommern
DESCRIPTION:
URL:https://www.interreg6a.net/veranstaltungen2/ende-der-herbstferien-mecklenburg-vorpommern/
LOCATION:Mecklenburg-Vorpommern
CATEGORIES:Kooperationsprogramm
END:VEVENT
BEGIN:VEVENT
DTSTART;VALUE=DATE:20251020
DTEND;VALUE=DATE:20251026
DTSTAMP:20260422T024231
CREATED:20251009T115352Z
LAST-MODIFIED:20251023T070013Z
UID:10001067-1760947200-1761411600@www.interreg6a.net
SUMMARY:Anfang der Herbstferien Mecklenburg-Vorpommern
DESCRIPTION:
URL:https://www.interreg6a.net/veranstaltungen2/herbstferien-mecklenburg-vorpommern/
LOCATION:Mecklenburg-Vorpommern
CATEGORIES:Kooperationsprogramm
END:VEVENT
END:VCALENDAR