BEGIN:VCALENDAR
VERSION:2.0
PRODID:-//Interreg VI A MV/BB/PL - ECPv6.15.18//NONSGML v1.0//EN
CALSCALE:GREGORIAN
METHOD:PUBLISH
X-ORIGINAL-URL:https://www.interreg6a.net/pl/
X-WR-CALDESC:Wydarzenia dla Interreg VI A MV/BB/PL
REFRESH-INTERVAL;VALUE=DURATION:PT1H
X-Robots-Tag:noindex
X-PUBLISHED-TTL:PT1H
BEGIN:VTIMEZONE
TZID:Europe/Berlin
BEGIN:DAYLIGHT
TZOFFSETFROM:+0100
TZOFFSETTO:+0200
TZNAME:CEST
DTSTART:20240331T010000
END:DAYLIGHT
BEGIN:STANDARD
TZOFFSETFROM:+0200
TZOFFSETTO:+0100
TZNAME:CET
DTSTART:20241027T010000
END:STANDARD
BEGIN:DAYLIGHT
TZOFFSETFROM:+0100
TZOFFSETTO:+0200
TZNAME:CEST
DTSTART:20250330T010000
END:DAYLIGHT
BEGIN:STANDARD
TZOFFSETFROM:+0200
TZOFFSETTO:+0100
TZNAME:CET
DTSTART:20251026T010000
END:STANDARD
BEGIN:DAYLIGHT
TZOFFSETFROM:+0100
TZOFFSETTO:+0200
TZNAME:CEST
DTSTART:20260329T010000
END:DAYLIGHT
BEGIN:STANDARD
TZOFFSETFROM:+0200
TZOFFSETTO:+0100
TZNAME:CET
DTSTART:20261025T010000
END:STANDARD
BEGIN:DAYLIGHT
TZOFFSETFROM:+0100
TZOFFSETTO:+0200
TZNAME:CEST
DTSTART:20270328T010000
END:DAYLIGHT
BEGIN:STANDARD
TZOFFSETFROM:+0200
TZOFFSETTO:+0100
TZNAME:CET
DTSTART:20271031T010000
END:STANDARD
END:VTIMEZONE
BEGIN:VEVENT
DTSTART;VALUE=DATE:20260207
DTEND;VALUE=DATE:20260208
DTSTAMP:20260422T095038
CREATED:20251205T074300Z
LAST-MODIFIED:20251205T074300Z
UID:10001128-1770422400-1770508799@www.interreg6a.net
SUMMARY:Koniec ferii zimowych w Brandenburgii
DESCRIPTION:
URL:https://www.interreg6a.net/pl/veranstaltungen2/koniec-ferii-zimowych-w-brandenburgii-2/
LOCATION:Brandenburgia
CATEGORIES:Program Współpracy
END:VEVENT
BEGIN:VEVENT
DTSTART;VALUE=DATE:20260202
DTEND;VALUE=DATE:20260203
DTSTAMP:20260422T095038
CREATED:20251205T074153Z
LAST-MODIFIED:20251205T074153Z
UID:10001127-1769990400-1770076799@www.interreg6a.net
SUMMARY:Początek ferii zimowych w Brandenburgii
DESCRIPTION:
URL:https://www.interreg6a.net/pl/veranstaltungen2/poczatek-ferii-zimowych-w-brandenburgii-2/
LOCATION:Brandenburgia
CATEGORIES:Program Współpracy
END:VEVENT
BEGIN:VEVENT
DTSTART;VALUE=DATE:20251101
DTEND;VALUE=DATE:20251102
DTSTAMP:20260422T095038
CREATED:20251009T121624Z
LAST-MODIFIED:20251009T121624Z
UID:10001073-1761955200-1762041599@www.interreg6a.net
SUMMARY:Koniec ferii jesiennych w Brandenburgii
DESCRIPTION:
URL:https://www.interreg6a.net/pl/veranstaltungen2/koniec-ferii-jesiennych-w-brandenburgii/
LOCATION:Brandenburgia
CATEGORIES:Program Współpracy
END:VEVENT
BEGIN:VEVENT
DTSTART;VALUE=DATE:20251020
DTEND;VALUE=DATE:20251021
DTSTAMP:20260422T095038
CREATED:20251009T121744Z
LAST-MODIFIED:20260106T134746Z
UID:10001074-1760918400-1761004799@www.interreg6a.net
SUMMARY:Początek ferii jesiennych w Brandenburgii
DESCRIPTION:
URL:https://www.interreg6a.net/pl/veranstaltungen2/poczatek-ferii-letnich-w-brandenburgii-2/
LOCATION:Brandenburgia
CATEGORIES:Program Współpracy
END:VEVENT
END:VCALENDAR